BEGIN:VCALENDAR
VERSION:2.0
PRODID:-//My Calendar//http://www.joedolson.com//v3.2.14//EN
METHOD:PUBLISH
CALSCALE:GREGORIAN
X-WR-CALNAME:Sarasota Brazilian Jiu Jitsu
X-PUBLISHED-TTL:PT24H
REFRESH-INTERVAL;VALUE=DURATION:PT24H
X-WR-CALDESC:Events from Sarasota Brazilian Jiu Jitsu
BEGIN:VEVENT
UID:3136-13
LOCATION:
SUMMARY:BJJ Open Mat
DTSTAMP:20190504T101500
ORGANIZER;CN=Roy Shaw:MAILTO:roydshaw@gmail.com
DTSTART;TZID=America/New_York:20190504T101500
DTEND;TZID=America/New_York:20190504T111500
URL;VALUE=URI:http://nolimitsbjj.com/my-calendar/
DESCRIPTION: 
CATEGORIES:Adult BJJ, Kids BJJ
END:VEVENT
BEGIN:VEVENT
UID:3137-13
LOCATION:
SUMMARY:BJJ Open Mat
DTSTAMP:20190511T101500
ORGANIZER;CN=Roy Shaw:MAILTO:roydshaw@gmail.com
DTSTART;TZID=America/New_York:20190511T101500
DTEND;TZID=America/New_York:20190511T111500
URL;VALUE=URI:http://nolimitsbjj.com/my-calendar/
DESCRIPTION: 
CATEGORIES:Adult BJJ, Kids BJJ
END:VEVENT
BEGIN:VEVENT
UID:3138-13
LOCATION:
SUMMARY:BJJ Open Mat
DTSTAMP:20190518T101500
ORGANIZER;CN=Roy Shaw:MAILTO:roydshaw@gmail.com
DTSTART;TZID=America/New_York:20190518T101500
DTEND;TZID=America/New_York:20190518T111500
URL;VALUE=URI:http://nolimitsbjj.com/my-calendar/
DESCRIPTION: 
CATEGORIES:Adult BJJ, Kids BJJ
END:VEVENT
BEGIN:VEVENT
UID:3139-13
LOCATION:
SUMMARY:BJJ Open Mat
DTSTAMP:20190525T101500
ORGANIZER;CN=Roy Shaw:MAILTO:roydshaw@gmail.com
DTSTART;TZID=America/New_York:20190525T101500
DTEND;TZID=America/New_York:20190525T111500
URL;VALUE=URI:http://nolimitsbjj.com/my-calendar/
DESCRIPTION: 
CATEGORIES:Adult BJJ, Kids BJJ
END:VEVENT
BEGIN:VEVENT
UID:3140-13
LOCATION:
SUMMARY:BJJ Open Mat
DTSTAMP:20190601T101500
ORGANIZER;CN=Roy Shaw:MAILTO:roydshaw@gmail.com
DTSTART;TZID=America/New_York:20190601T101500
DTEND;TZID=America/New_York:20190601T111500
URL;VALUE=URI:http://nolimitsbjj.com/my-calendar/
DESCRIPTION: 
CATEGORIES:Adult BJJ, Kids BJJ
END:VEVENT
BEGIN:VEVENT
UID:3141-13
LOCATION:
SUMMARY:BJJ Open Mat
DTSTAMP:20190608T101500
ORGANIZER;CN=Roy Shaw:MAILTO:roydshaw@gmail.com
DTSTART;TZID=America/New_York:20190608T101500
DTEND;TZID=America/New_York:20190608T111500
URL;VALUE=URI:http://nolimitsbjj.com/my-calendar/
DESCRIPTION: 
CATEGORIES:Adult BJJ, Kids BJJ
END:VEVENT
BEGIN:VEVENT
UID:3142-13
LOCATION:
SUMMARY:BJJ Open Mat
DTSTAMP:20190615T101500
ORGANIZER;CN=Roy Shaw:MAILTO:roydshaw@gmail.com
DTSTART;TZID=America/New_York:20190615T101500
DTEND;TZID=America/New_York:20190615T111500
URL;VALUE=URI:http://nolimitsbjj.com/my-calendar/
DESCRIPTION: 
CATEGORIES:Adult BJJ, Kids BJJ
END:VEVENT
BEGIN:VEVENT
UID:3143-13
LOCATION:
SUMMARY:BJJ Open Mat
DTSTAMP:20190622T101500
ORGANIZER;CN=Roy Shaw:MAILTO:roydshaw@gmail.com
DTSTART;TZID=America/New_York:20190622T101500
DTEND;TZID=America/New_York:20190622T111500
URL;VALUE=URI:http://nolimitsbjj.com/my-calendar/
DESCRIPTION: 
CATEGORIES:Adult BJJ, Kids BJJ
END:VEVENT
BEGIN:VEVENT
UID:3144-13
LOCATION:
SUMMARY:BJJ Open Mat
DTSTAMP:20190629T101500
ORGANIZER;CN=Roy Shaw:MAILTO:roydshaw@gmail.com
DTSTART;TZID=America/New_York:20190629T101500
DTEND;TZID=America/New_York:20190629T111500
URL;VALUE=URI:http://nolimitsbjj.com/my-calendar/
DESCRIPTION: 
CATEGORIES:Adult BJJ, Kids BJJ
END:VEVENT
BEGIN:VEVENT
UID:3145-13
LOCATION:
SUMMARY:BJJ Open Mat
DTSTAMP:20190706T101500
ORGANIZER;CN=Roy Shaw:MAILTO:roydshaw@gmail.com
DTSTART;TZID=America/New_York:20190706T101500
DTEND;TZID=America/New_York:20190706T111500
URL;VALUE=URI:http://nolimitsbjj.com/my-calendar/
DESCRIPTION: 
CATEGORIES:Adult BJJ, Kids BJJ
END:VEVENT
BEGIN:VEVENT
UID:3146-13
LOCATION:
SUMMARY:BJJ Open Mat
DTSTAMP:20190713T101500
ORGANIZER;CN=Roy Shaw:MAILTO:roydshaw@gmail.com
DTSTART;TZID=America/New_York:20190713T101500
DTEND;TZID=America/New_York:20190713T111500
URL;VALUE=URI:http://nolimitsbjj.com/my-calendar/
DESCRIPTION: 
CATEGORIES:Adult BJJ, Kids BJJ
END:VEVENT
BEGIN:VEVENT
UID:3147-13
LOCATION:
SUMMARY:BJJ Open Mat
DTSTAMP:20190720T101500
ORGANIZER;CN=Roy Shaw:MAILTO:roydshaw@gmail.com
DTSTART;TZID=America/New_York:20190720T101500
DTEND;TZID=America/New_York:20190720T111500
URL;VALUE=URI:http://nolimitsbjj.com/my-calendar/
DESCRIPTION: 
CATEGORIES:Adult BJJ, Kids BJJ
END:VEVENT
BEGIN:VEVENT
UID:3148-13
LOCATION:
SUMMARY:BJJ Open Mat
DTSTAMP:20190727T101500
ORGANIZER;CN=Roy Shaw:MAILTO:roydshaw@gmail.com
DTSTART;TZID=America/New_York:20190727T101500
DTEND;TZID=America/New_York:20190727T111500
URL;VALUE=URI:http://nolimitsbjj.com/my-calendar/
DESCRIPTION: 
CATEGORIES:Adult BJJ, Kids BJJ
END:VEVENT
BEGIN:VEVENT
UID:3149-13
LOCATION:
SUMMARY:BJJ Open Mat
DTSTAMP:20190803T101500
ORGANIZER;CN=Roy Shaw:MAILTO:roydshaw@gmail.com
DTSTART;TZID=America/New_York:20190803T101500
DTEND;TZID=America/New_York:20190803T111500
URL;VALUE=URI:http://nolimitsbjj.com/my-calendar/
DESCRIPTION: 
CATEGORIES:Adult BJJ, Kids BJJ
END:VEVENT
BEGIN:VEVENT
UID:3150-13
LOCATION:
SUMMARY:BJJ Open Mat
DTSTAMP:20190810T101500
ORGANIZER;CN=Roy Shaw:MAILTO:roydshaw@gmail.com
DTSTART;TZID=America/New_York:20190810T101500
DTEND;TZID=America/New_York:20190810T111500
URL;VALUE=URI:http://nolimitsbjj.com/my-calendar/
DESCRIPTION: 
CATEGORIES:Adult BJJ, Kids BJJ
END:VEVENT
BEGIN:VEVENT
UID:3151-13
LOCATION:
SUMMARY:BJJ Open Mat
DTSTAMP:20190817T101500
ORGANIZER;CN=Roy Shaw:MAILTO:roydshaw@gmail.com
DTSTART;TZID=America/New_York:20190817T101500
DTEND;TZID=America/New_York:20190817T111500
URL;VALUE=URI:http://nolimitsbjj.com/my-calendar/
DESCRIPTION: 
CATEGORIES:Adult BJJ, Kids BJJ
END:VEVENT
BEGIN:VEVENT
UID:3152-13
LOCATION:
SUMMARY:BJJ Open Mat
DTSTAMP:20190824T101500
ORGANIZER;CN=Roy Shaw:MAILTO:roydshaw@gmail.com
DTSTART;TZID=America/New_York:20190824T101500
DTEND;TZID=America/New_York:20190824T111500
URL;VALUE=URI:http://nolimitsbjj.com/my-calendar/
DESCRIPTION: 
CATEGORIES:Adult BJJ, Kids BJJ
END:VEVENT
BEGIN:VEVENT
UID:3153-13
LOCATION:
SUMMARY:BJJ Open Mat
DTSTAMP:20190831T101500
ORGANIZER;CN=Roy Shaw:MAILTO:roydshaw@gmail.com
DTSTART;TZID=America/New_York:20190831T101500
DTEND;TZID=America/New_York:20190831T111500
URL;VALUE=URI:http://nolimitsbjj.com/my-calendar/
DESCRIPTION: 
CATEGORIES:Adult BJJ, Kids BJJ
END:VEVENT
BEGIN:VEVENT
UID:3154-13
LOCATION:
SUMMARY:BJJ Open Mat
DTSTAMP:20190907T101500
ORGANIZER;CN=Roy Shaw:MAILTO:roydshaw@gmail.com
DTSTART;TZID=America/New_York:20190907T101500
DTEND;TZID=America/New_York:20190907T111500
URL;VALUE=URI:http://nolimitsbjj.com/my-calendar/
DESCRIPTION: 
CATEGORIES:Adult BJJ, Kids BJJ
END:VEVENT
BEGIN:VEVENT
UID:3155-13
LOCATION:
SUMMARY:BJJ Open Mat
DTSTAMP:20190914T101500
ORGANIZER;CN=Roy Shaw:MAILTO:roydshaw@gmail.com
DTSTART;TZID=America/New_York:20190914T101500
DTEND;TZID=America/New_York:20190914T111500
URL;VALUE=URI:http://nolimitsbjj.com/my-calendar/
DESCRIPTION: 
CATEGORIES:Adult BJJ, Kids BJJ
END:VEVENT
BEGIN:VEVENT
UID:3156-13
LOCATION:
SUMMARY:BJJ Open Mat
DTSTAMP:20190921T101500
ORGANIZER;CN=Roy Shaw:MAILTO:roydshaw@gmail.com
DTSTART;TZID=America/New_York:20190921T101500
DTEND;TZID=America/New_York:20190921T111500
URL;VALUE=URI:http://nolimitsbjj.com/my-calendar/
DESCRIPTION: 
CATEGORIES:Adult BJJ, Kids BJJ
END:VEVENT
BEGIN:VEVENT
UID:3157-13
LOCATION:
SUMMARY:BJJ Open Mat
DTSTAMP:20190928T101500
ORGANIZER;CN=Roy Shaw:MAILTO:roydshaw@gmail.com
DTSTART;TZID=America/New_York:20190928T101500
DTEND;TZID=America/New_York:20190928T111500
URL;VALUE=URI:http://nolimitsbjj.com/my-calendar/
DESCRIPTION: 
CATEGORIES:Adult BJJ, Kids BJJ
END:VEVENT
BEGIN:VEVENT
UID:3158-13
LOCATION:
SUMMARY:BJJ Open Mat
DTSTAMP:20191005T101500
ORGANIZER;CN=Roy Shaw:MAILTO:roydshaw@gmail.com
DTSTART;TZID=America/New_York:20191005T101500
DTEND;TZID=America/New_York:20191005T111500
URL;VALUE=URI:http://nolimitsbjj.com/my-calendar/
DESCRIPTION: 
CATEGORIES:Adult BJJ, Kids BJJ
END:VEVENT
BEGIN:VEVENT
UID:3159-13
LOCATION:
SUMMARY:BJJ Open Mat
DTSTAMP:20191012T101500
ORGANIZER;CN=Roy Shaw:MAILTO:roydshaw@gmail.com
DTSTART;TZID=America/New_York:20191012T101500
DTEND;TZID=America/New_York:20191012T111500
URL;VALUE=URI:http://nolimitsbjj.com/my-calendar/
DESCRIPTION: 
CATEGORIES:Adult BJJ, Kids BJJ
END:VEVENT
BEGIN:VEVENT
UID:3160-13
LOCATION:
SUMMARY:BJJ Open Mat
DTSTAMP:20191019T101500
ORGANIZER;CN=Roy Shaw:MAILTO:roydshaw@gmail.com
DTSTART;TZID=America/New_York:20191019T101500
DTEND;TZID=America/New_York:20191019T111500
URL;VALUE=URI:http://nolimitsbjj.com/my-calendar/
DESCRIPTION: 
CATEGORIES:Adult BJJ, Kids BJJ
END:VEVENT
BEGIN:VEVENT
UID:3161-13
LOCATION:
SUMMARY:BJJ Open Mat
DTSTAMP:20191026T101500
ORGANIZER;CN=Roy Shaw:MAILTO:roydshaw@gmail.com
DTSTART;TZID=America/New_York:20191026T101500
DTEND;TZID=America/New_York:20191026T111500
URL;VALUE=URI:http://nolimitsbjj.com/my-calendar/
DESCRIPTION: 
CATEGORIES:Adult BJJ, Kids BJJ
END:VEVENT
BEGIN:VEVENT
UID:3162-13
LOCATION:
SUMMARY:BJJ Open Mat
DTSTAMP:20191102T101500
ORGANIZER;CN=Roy Shaw:MAILTO:roydshaw@gmail.com
DTSTART;TZID=America/New_York:20191102T101500
DTEND;TZID=America/New_York:20191102T111500
URL;VALUE=URI:http://nolimitsbjj.com/my-calendar/
DESCRIPTION: 
CATEGORIES:Adult BJJ, Kids BJJ
END:VEVENT
BEGIN:VEVENT
UID:3163-13
LOCATION:
SUMMARY:BJJ Open Mat
DTSTAMP:20191109T101500
ORGANIZER;CN=Roy Shaw:MAILTO:roydshaw@gmail.com
DTSTART;TZID=America/New_York:20191109T101500
DTEND;TZID=America/New_York:20191109T111500
URL;VALUE=URI:http://nolimitsbjj.com/my-calendar/
DESCRIPTION: 
CATEGORIES:Adult BJJ, Kids BJJ
END:VEVENT
BEGIN:VEVENT
UID:3164-13
LOCATION:
SUMMARY:BJJ Open Mat
DTSTAMP:20191116T101500
ORGANIZER;CN=Roy Shaw:MAILTO:roydshaw@gmail.com
DTSTART;TZID=America/New_York:20191116T101500
DTEND;TZID=America/New_York:20191116T111500
URL;VALUE=URI:http://nolimitsbjj.com/my-calendar/
DESCRIPTION: 
CATEGORIES:Adult BJJ, Kids BJJ
END:VEVENT
BEGIN:VEVENT
UID:3165-13
LOCATION:
SUMMARY:BJJ Open Mat
DTSTAMP:20191123T101500
ORGANIZER;CN=Roy Shaw:MAILTO:roydshaw@gmail.com
DTSTART;TZID=America/New_York:20191123T101500
DTEND;TZID=America/New_York:20191123T111500
URL;VALUE=URI:http://nolimitsbjj.com/my-calendar/
DESCRIPTION: 
CATEGORIES:Adult BJJ, Kids BJJ
END:VEVENT
END:VCALENDAR